BEGIN:VCALENDAR
VERSION:2.0
PRODID:-//wp-events-plugin.com//6.5//EN
BEGIN:VEVENT
UID:7-9869@singapore.swea.org
DTSTART:20260326T090000Z
DTEND:20260326T103000Z
DTSTAMP:20260116T085829Z
URL:https://singapore.swea.org/events/tennis-2-2026-03-26/
SUMMARY:Tennis
DESCRIPTION:Tennis med utsikt – gruppträning på Fairmonts tak!\n\nI sam
 arbete med Savitar Tennis Center erbjuder vi inspirerande och effektiv ten
 nisträning på torsdagar kl. 09:00–10:30. Träningen leds av två erfar
 na coacher och hålls på fantastiska takbanor hos Fairmont Hotel – med 
 svalkande bris och utsikt över staden.\n\nVarje kurs består av fem tillf
 ällen\, och du har möjlighet att testa 1–2 gånger innan du bokar in d
 ig för hela perioden.\n\nVälj din nivå:\nDiscover Tennis Clinic – fö
 r dig som är nybörjare\nIntermediate Tennis Clinic– för dig med viss 
 erfarenhet\n\nSmå grupper med 3–6 deltagare och en tränare per grupp g
 aranterar personlig feedback och snabb utveckling\, oavsett nivå.\n\nVill
  du börja med att prova-på? Inga problem\, hör av dig så ser vi om det
  finns plats i någon grupp.\n\nPraktisk info:\nNär: Torsdagar kl. 09:00
 –10:30 (uppehåll vid lov och röda dagar)\nVar: Fairmont Hotel\, 80 Bra
 s Basah Rd\, Singapore 189560\nAnmälan: Löpande – kontakta oss med din
  nivå och intresse\nKontaktperson: Louise Gunnestrand WA 83502466\n\nAlla
  är välkomna – vi ses på banan!\n\n&nbsp\;\n\n&nbsp\;\n\n&nbsp\;\n\n&
 nbsp\;
ATTACH;FMTTYPE=image/jpeg:https://singapore.swea.org/wp-content/uploads/si
 tes/7/2022/09/tennis-1-e1759455769394.jpg
END:VEVENT
END:VCALENDAR