BEGIN:VCALENDAR
VERSION:2.0
PRODID:-//wp-events-plugin.com//6.5//EN
BEGIN:VEVENT
UID:7-2151@singapore.swea.org
DTSTART:20230127T090000Z
DTEND:20230127T100000Z
DTSTAMP:20230105T003539Z
URL:https://singapore.swea.org/events/swea-fitness-16/
SUMMARY:SWEA Fitness
DESCRIPTION:Niina och Anna trimmar oss med Bootcamp övningar\, Pilates och
  Yoga i den härliga miljön som Botaniska trädgården bjuder på. Niina 
 och Anna kommer alternera som våra tränare och dom bjuder på högkvalit
 ativ träning. Båda är utbildade instruktörer.\n\nKom igång med hälso
 samma rutiner och träna i gott sällskap med Swea!\nVi jobbar på styrka\
 , kondition och rörlighet\, och peppar varandra för att öka träningsmo
 tivation och må bra.\nRoliga\, varierande och utmanande träningspass som
  passar alla nivåer\, även om du är nybörjare eller har haft ett trän
 ingsuppehåll.\nTa med egen yoga matta\, stor flaska vatten och/eller spor
 tdryck och liten handduk.\n60 min träningspass med\n\n- styrka\n- konditi
 on\n- rörlighet\n- stretching\n\nYogan som Anna håller i är en kombinat
 ion av yoga flow\, core och stretch.\n\nDatum: Varje fredag framåt  (ej 
 då det är lov eller Public Holiday).\nTid: kl. 09:00 - 10:00\nPris: grat
 is och endast för SWEA Medlemmar\nPlats: Botaniska Trädgården eller ett
  condo function room.\n\nAnmälan: Intresseanmälan är inte bindande. Nä
 r du anmält ditt intresse så läggs du till i Whatsapp-gruppen.\nDär s
 äger du till om du vill komma eller ej. Man behöver inte delta varje vec
 ka utan är med när det passar.\nKontaktperson: Niina Nummela\, Anna Hult
 man och Karin Widell +65 9137 4209\nKlicka här för att anmäla ditt intr
 esse\n\n&nbsp\;\n\n&nbsp\;\n\n&nbsp\;\n\n&nbsp\;\n\n&nbsp\;\n\n&nbsp\;
END:VEVENT
END:VCALENDAR