BEGIN:VCALENDAR
VERSION:2.0
PRODID:-//wp-events-plugin.com//6.5//EN
BEGIN:VEVENT
UID:7-10617@singapore.swea.org
DTSTART:20260503T180000Z
DTEND:20260503T190000Z
DTSTAMP:20260407T125531Z
URL:https://singapore.swea.org/events/sunset-yoga/
SUMMARY:Sunset Yoga
DESCRIPTION:Ta en liten paus och hitta tillbaka till dig själv under den 
 öppna himlen. Följ med oss på en härlig yogastund ute på ön vid Sent
 osas strand\, där kvällssolen möter mjuka rörelser och rogivande toner
 . När solen sakta går ner\, går vi ut över hängbron och rullar ut vå
 ra yogamattor vid den glittrande kustlinjen\, andas in havsbrisen och rör
  oss i ett lugnt och skönt tempo. Mitt i naturens stillhet får du chanse
 n att varva ner\, landa och fylla på med ny energi.\n\nGlöm inte att ta 
 med din egen yogamatta.\n\nEventet hålls oavsett väder\, men ställs in 
 om det skulle bli riktigt dåligt.\n\nBiljett köpes här:https://www.sent
 osa.com.sg/en/things-to-do/events/sunset-yoga/\n\nDatum: Söndag 3 maj 202
 6\nTid:kl. 18.00-19.00\nPlats: Southernmost Point of Continental Asia\, Se
 ntosa\, Palawan Beach\nAnmäl dig här senast: Fredag 1 Maj\nKontaktperson
 : Christina Jidenius Whatsapp +46 707316057\nKostnad: 15SGD som var och en
  anmäler och betalar på deras hemsida.\n\n&nbsp\;\n\n&nbsp\;\n\n&nbsp\;\
 n\n&nbsp\;
ATTACH;FMTTYPE=image/jpeg:https://singapore.swea.org/wp-content/uploads/si
 tes/7/2026/04/sunset-yoga-kopia-e1775566045106.jpeg
END:VEVENT
END:VCALENDAR