BEGIN:VCALENDAR
VERSION:2.0
PRODID:-//wp-events-plugin.com//6.5//EN
BEGIN:VEVENT
UID:7-1706@singapore.swea.org
DTSTART:20221130T100000Z
DTEND:20221130T120000Z
DTSTAMP:20221114T030740Z
URL:https://singapore.swea.org/events/smyckesvisning-hemma-hos-helena-gilm
 our/
SUMMARY:Smyckesvisning hemma hos Helena Gilmour
DESCRIPTION:Kom hem till Helena och se\, prova\, köp hennes fina och fiffi
 ga smycken. Helena driver eget här i Singapore. Hon kommer även berätta
  hur hon arbetar\, hur hon skapar\, vad som inspirerar henne och ge inspir
 ation till matchning av kläder samt olika stilar.\nSmycken är kul\, dom 
 ger oss personlighet!\n\nVälkomna!\n\nDatum: Onsdag 30 november\nTid: kl
 . 10:00-12:00\nPlats:  Hemma Hos Helena\, 28 Leonie Hill\, 23-28\nAnmäla
 n:  Klicka här för att anmäla dig senast söndag 27 november\nKontaktp
 erson: Helena Gilmour +65 9088 0624\n\n&nbsp\;\n\n&nbsp\;\n\n&nbsp\;\n\n&n
 bsp\;\n\n&nbsp\;\n\n&nbsp\;\n\n&nbsp\;\n\n&nbsp\;
END:VEVENT
END:VCALENDAR