BEGIN:VCALENDAR
VERSION:2.0
PRODID:-//wp-events-plugin.com//6.5//EN
BEGIN:VEVENT
UID:7-9053@singapore.swea.org
DTSTART;VALUE=DATE:20260205
DTEND;VALUE=DATE:20260208
DTSTAMP:20260119T054733Z
URL:https://singapore.swea.org/events/resa-till-vietnam-23-25-okt/
SUMMARY:SWEA resa till Hoi An 05-07 feb
DESCRIPTION:Vi åker på en resa till Hoi An – Lyktornas stad! ✨\nProgr
 am: Vi kommer att uppleva magin i Hoi An\, den charmiga världsarvsstaden 
 i centrala Vietnam\, lagom kort flygtur från Singapore.\nStaden är känd
  för sina färgglada lyktor\, historiska hus och pittoreska gränder. Otr
 oligt mysigt!\nI resan ingår valfria program som morgonyoga och guidad tu
 r genom staden.\nDet finns också massvis med shopping\, nattmarknad och l
 okala matställen med ljuvliga vietnamesiska maträtter.\nPerfekt SWEA res
 mål för gemenskap\, avkoppling och upptäckter.\nDatum: Resan framflytta
 d från oktober till 05-07F EB\nFlyg: Alla Sweor har bokat sina egna flygb
 iljetter till Da Nang med Scoot.\nFrån Da Nang till Hoi An är det cirka 
 30 km\, transport ordnad.\nHotell: Vi har bokat Little Residence Hoi An\, 
 35 Dao Duy Tu\, Hoi An Ward\nAntal: Total 10 Sweor  på väg ut på även
 tyr tillsammans\nKontaktperson: Ingalill / WA+358505709933\nOBS! Resan är
  fullbokad\n
ATTACH;FMTTYPE=image/jpeg:https://singapore.swea.org/wp-content/uploads/si
 tes/7/2025/09/hoi-an.jpg
END:VEVENT
END:VCALENDAR