BEGIN:VCALENDAR
VERSION:2.0
PRODID:-//wp-events-plugin.com//6.5//EN
BEGIN:VEVENT
UID:7-1540@singapore.swea.org
DTSTART:20221115T093000Z
DTEND:20221115T123000Z
DTSTAMP:20221011T103448Z
URL:https://singapore.swea.org/events/promenad-macritchie-park/
SUMMARY:Promenad MacRitchie Park
DESCRIPTION:Följ med till MacRitchie Park för en lång och härlig skogsp
 romenad . Vi startar vår promenad i djungelmiljö i skuggan av träden. L
 ängs vägen kan vi stöta på både apor\, stora ödlor och andra små dj
 ur. Efter cirka 4 1/2 km går de som vill Tree top walk. En extra tur på 
 ca 3 km i kuperad terräng över en gångbro med vacker utsikt över reser
 voaren. (Rekommenderas inte om du är höjdrädd) Den sista sträckan på 
 vår promenad tar oss via golf link vidare mot en board walk längst den v
 ackra reservoaren och sedan tillbaka till vår utgångspunkt.\n\nDen total
 a sträckan är ca 12 km vilket beräknas ta 3 - 3 1/2  tim. För den som
  inte önskar gå Tree top walk kan vänta in övriga gruppen längst väg
 en. Vid ett tillfälle finns det möjlighet att fylla på vattenflaskan el
 ler göra ett toalettbesök om det behövs.\n\nEfter promenaden tar vi en 
 svalkande juice i cafét och de som vill kan tillsammans åka vidare till 
 Newton Foodcenter för en gemensam lunch.\n\nOm vädrets makter inte är p
 å vår sida och turen måste ställas in\, meddelas detta via WhatsApp 1-
 2 timmar innan start.\n\nDatum: Tisdag 15 november\nTid: kl. 9.30\nPlats: 
 Samling Muchrooms café\, Mac Richie reservoar\nAnmälan:  Klicka här f
 ör att anmäla dig senast Måndag 14 november\nKontaktperson: Ingrid Män
 d +65 8133 6818\n\n&nbsp\;\n\n&nbsp\;\n\n&nbsp\;\n\n&nbsp\;
END:VEVENT
END:VCALENDAR