BEGIN:VCALENDAR
VERSION:2.0
PRODID:-//wp-events-plugin.com//6.5//EN
BEGIN:VEVENT
UID:7-818@singapore.swea.org
DTSTART:20220919T093000Z
DTEND:20220919T120000Z
DTSTAMP:20220904T021515Z
URL:https://singapore.swea.org/events/promenad-coney-island/
SUMMARY:Promenad Coney Island
DESCRIPTION:Vi träffas utanför Punggol MRT EXIT A för att ta oss ut till
  ön Coney Island\, därefter fortsätter vi promenaden utmed Punggol Wate
 rway tillbaka till MRT-stationen. Totalt ca 13 km. Vill man avvika efter c
 a 10 km\, kan man där ta Riviera LRT tillbaka till stationen i Punggol. F
 ör de som vill\, får vi oss något till livs vid Waterway Point Shopping
  mall.\n\nDatum: Måndag 19 september\nTid: kl. 9.00\nPlats: Samling Pungg
 ol MRT station EXIT A\nAnmälan: Klicka här för att anmäla dig  senas
 t  Söndag 18 september\nKontaktperson: Ingrid Mänd +65 8133 6818\n\n&nb
 sp\;\n\n&nbsp\;\n\n&nbsp\;\n\n&nbsp\;
END:VEVENT
END:VCALENDAR