BEGIN:VCALENDAR
VERSION:2.0
PRODID:-//wp-events-plugin.com//6.5//EN
BEGIN:VEVENT
UID:7-10181@singapore.swea.org
DTSTART:20260310T100000Z
DTEND:20260310T120000Z
DTSTAMP:20260222T071232Z
URL:https://singapore.swea.org/events/naturpromenad-i-botaniska-tradgarden
 -med-fokus-pa-orkidetradgarden/
SUMMARY:Naturpromenad i Botaniska trädgården med fokus på orkidéträdg
 ården
DESCRIPTION:Följ med på en promenad i vackra Botaniska trädgården\, vi 
 kommer fokusera på att gå in i orkidéträdgården\, där var och en bet
 alar sin egen entréavgift. Ta med ditt Singpass\, priset är då: 5 SGD f
 ör vuxen och 1 SGD för lokala studenter och personer över 60 år. Så k
 om med och njut av alla fina orkidéer och njut av kylan i The Sembcorp co
 ol house och vi spanar säkert efter kung Carl Gustafs orkidé i VIP avdel
 ningen. Det är den största tropiska orkidésamlingen i världen.\n\nDatu
 m: Tisdag 10 mars\nTid: kl.10.00\nPlats: Entrén vid Botanical gardens MRT
 \nAnmäl dig här senast Onsdag 9 mars\nKostnad: Entré avgiften till Orki
 déträdgården. Med Singpass är priset: 5 SGD för vuxen och 1 SGD för 
 lokala studenter och personer över 60 år\nKontaktperson: Christina Jiden
 ius tel. 97777461 \, Whatsapp +46707316057  Petra Persson +6585351967\n\n
 &nbsp\;\n\n&nbsp\;\n\n&nbsp\;\n\n&nbsp\;\n\n&nbsp\;
ATTACH;FMTTYPE=image/jpeg:https://singapore.swea.org/wp-content/uploads/si
 tes/7/2026/02/orkide.jpg
END:VEVENT
END:VCALENDAR