BEGIN:VCALENDAR
VERSION:2.0
PRODID:-//wp-events-plugin.com//6.5//EN
BEGIN:VEVENT
UID:7-960@singapore.swea.org
DTSTART:20220913T100000Z
DTEND:20220913T120000Z
DTSTAMP:20220906T061715Z
URL:https://singapore.swea.org/events/laura-lees-antikaffar/
SUMMARY:Laura Lees antikaffär
DESCRIPTION:Vi besöker Laura Lees antikaffär i Pasir Panjang.\n&nbsp\;\nH
 är får vi en guidad tur och historien bakom föremål och möbler\,  so
 m bland annat importerats från Kina\, Tibet och Mongoliet\nEfter turen g
 år vi och äter en god lunch tillsammans för de som vill.\nDatum: Tisdag
  13 september\nTid: kl. 10.00\nPlats: 102E Pasir Panjang  Road 118529\, V
 i träffas vid huvudentren\nAnmälan:   Klicka här för att anmäla dig
   senast Måndag 12 september\nKontaktperson:  Nicoline Skille +65 9771 
 8042\n&nbsp\;\n\n&nbsp\;\n\n&nbsp\;
END:VEVENT
END:VCALENDAR