BEGIN:VCALENDAR
VERSION:2.0
PRODID:-//wp-events-plugin.com//6.5//EN
BEGIN:VEVENT
UID:7-1316@singapore.swea.org
DTSTART:20221008T100000Z
DTEND:20221008T130000Z
DTSTAMP:20220924T092841Z
URL:https://singapore.swea.org/events/handla-pa-wet-market/
SUMMARY:Handla på Wet Market
DESCRIPTION:Känner du till wetmarkets? Det är den lokala marknaden där m
 an kan hitta färsk frukt och grönsaker\, kött\, nudlar och blommor till
  bättre priser än i vanliga matbutiken. Det är en speciell upplevelse a
 tt gå till wetmarkets och handla bland singaporianska aunties.\n\nMen det
  kan kännas ovant och svårt att veta hur man handlar där. Därför går
  vi tillsammans till Ghim Moh wetmarket och lär oss bland annat:\n\n-  
       Hur håller sig kött och fisk kalla hela vägen hem?\n-      
   När är det självbetjäning och när ska man beställa över disk?\n-
         Ska man pruta?\n-        Nya frukter och grönsaker\n-  
       Att du också kan få kläder lagade\, kaffe malt och köpa småk
 akor.\n\nVi träffas framför Cheers på Buona Vista MRT (exit C) och går
  tillsammans till Ghim Moh. Vi går runt och handlar på wetmarket. Ha int
 e på dig finskor\, det kan vara blött och kladdigt på golvet. Efteråt 
 kan de som vill ta en fika/lunch på hawker centret bredvid. Ta med kontan
 ter.\n\nEventet är gratis. Du betalar själv vad du vill handla och äta 
 på plats. (bäst att ta med kontanter)\n\nDatum: Lördag 8 oktober\nTid: 
 kl.10.00\nPlats: Buona Vista MRT\, exit C\, framför Cheers\nAnmälan: Kli
 cka här för att anmäla dig   senast fredag 7 oktober\nKontaktperson: 
 Anna Odlén  +65 8586 4651\n\n&nbsp\;\n\n&nbsp\;\n\n&nbsp\;\n\n&nbsp\;
END:VEVENT
END:VCALENDAR