BEGIN:VCALENDAR
VERSION:2.0
PRODID:-//wp-events-plugin.com//6.5//EN
BEGIN:VEVENT
UID:7-10266@singapore.swea.org
DTSTART:20260327T183000Z
DTEND:20260327T230000Z
DTSTAMP:20260304T030849Z
URL:https://singapore.swea.org/events/fredagsdrink-16/
SUMMARY:Fredagsdrink
DESCRIPTION:Varmt välkomna till en trevlig fredagskväll tillsammans på D
 allas Restaurant &amp\; Bar i Marina Bay Sands!\nVi ser fram emot en avsla
 ppnad kväll med gott att dricka\, härligt mingel och fin gemenskap.\nDin
  respektive är varmt välkommen att följa med.\n\nVi ses!\n\nDatum: Fred
 ag 27 mars\nTid: kl.18:30\nPlats: Dallas Restaurant &amp\; Bar\, 2 Bayfron
 t Ave\,#01-85\, The Shoppes at Marina bay Sands\, Singapore 018972\nAnmäl
  dig här senast: 23 mars\nKontaktperson: Sanna Andersson 9239 0461\nMat o
 ch dryck betalas av var och en\n\n&nbsp\;\n\n&nbsp\;\n\n&nbsp\;\n\n&nbsp\;
ATTACH;FMTTYPE=image/jpeg:https://singapore.swea.org/wp-content/uploads/si
 tes/7/2025/11/drink-e1772593457376.jpg
END:VEVENT
END:VCALENDAR